BEGIN:VCALENDAR
VERSION:2.0
PRODID:-//wp-events-plugin.com//7.2.3.1//EN
BEGIN:VEVENT
UID:42@ebra.eu
DTSTART:20230724T090000Z
DTEND:20230724T170000Z
DTSTAMP:20230105T070847Z
URL:https://www.ebra.eu/events/biomed-and-tissue-engineering/
SUMMARY:Biomed and tissue engineering
DESCRIPTION:Regarding Collaboration with you The international conference e
 xpo on Biomed and tissue engineering 2023
LOCATION:https://hilarisconferences.com/tissue-engineering
END:VEVENT
END:VCALENDAR