BEGIN:VCALENDAR
VERSION:2.0
PRODID:-//wp-events-plugin.com//7.2.3.1//EN
BEGIN:VEVENT
UID:11@ebra.eu
DTSTART;TZID=Pacific/Saipan:20220418T090000
DTEND;TZID=Pacific/Saipan:20220419T210000
DTSTAMP:20220305T064714Z
URL:https://www.ebra.eu/events/polymer-science-2022/
SUMMARY:POLYMER SCIENCE 2022
DESCRIPTION:This is Alexa Sandra\, we would like to invite you to the upcom
 ing conference on 8th International Conference on Polymer Science and Tec
 hnology on April 18-19\, 2022\, in Barcelona\, Spain. Here on behalf 
 of the organizing committee\, I feel deeply honored to invite you to atten
 d the conference as a speaker.\n\n              Visit URL: 
 https://polymerscience.euroscicon.com/\n\nWe cordially invite you to parti
 cipate in the conference. We have every reason to believe that you would m
 ake the conference more successful.\n\n&nbsp\;\n\nOrganizer:\n\nAlexa Sand
 ra\n\nConference Manager\n\nalexsandra9842@gmail.com\n\n+441138680972\n\n&
 nbsp\;
ATTACH;FMTTYPE=image/jpeg:https://www.ebra.eu/wp-content/uploads/2022/03/p
 olymer-science-image-2.jpg
END:VEVENT
BEGIN:VTIMEZONE
TZID:Pacific/Saipan
X-LIC-LOCATION:Pacific/Saipan
BEGIN:STANDARD
DTSTART:20210418T090000
TZOFFSETFROM:+1000
TZOFFSETTO:+1000
TZNAME:ChST
END:STANDARD
END:VTIMEZONE
END:VCALENDAR